BEGIN:VCALENDAR
VERSION:2.0
PRODID:icalendar-ruby
CALSCALE:GREGORIAN
METHOD:PUBLISH
BEGIN:VEVENT
DTSTAMP:20260423T193029Z
UID:7-433828@rmnaz.com
DTSTART:20261101T143000Z
DTEND:20261101T153000Z
CLASS:PUBLIC
CREATED:20260423T140926
DESCRIPTION:Sunday Worship
LAST-MODIFIED:20260423T140926
LOCATION:1530 Hunter Hill Rd. Rocky Mount NC 27804
SUMMARY:Sunday Worship
URL;VALUE=URI:https://www.rmnaz.com/events/sunday-worship/2026-11-01
END:VEVENT
END:VCALENDAR
