BEGIN:VCALENDAR
VERSION:2.0
PRODID:icalendar-ruby
CALSCALE:GREGORIAN
METHOD:PUBLISH
BEGIN:VEVENT
DTSTAMP:20260423T180645Z
UID:7-433484@rmnaz.com
DTSTART:20261025T133000Z
DTEND:20261025T143000Z
CLASS:PUBLIC
CREATED:20260423T111318
DESCRIPTION:Sunday Worship
LAST-MODIFIED:20260423T111318
LOCATION:1530 Hunter Hill Rd. Rocky Mount NC 27804
SUMMARY:Sunday Worship
URL;VALUE=URI:https://www.rmnaz.com/events/sunday-worship/2026-10-25
END:VEVENT
END:VCALENDAR
