BEGIN:VCALENDAR
VERSION:2.0
PRODID:icalendar-ruby
CALSCALE:GREGORIAN
METHOD:PUBLISH
BEGIN:VEVENT
DTSTAMP:20260423T150639Z
UID:7-433139@rmnaz.com
DTSTART:20261011T133000Z
DTEND:20261011T143000Z
CLASS:PUBLIC
CREATED:20260423T082040
DESCRIPTION:Sunday Worship
LAST-MODIFIED:20260423T082040
LOCATION:1530 Hunter Hill Rd. Rocky Mount NC 27804
SUMMARY:Sunday Worship
URL;VALUE=URI:https://www.rmnaz.com/events/sunday-worship/2026-10-11
END:VEVENT
END:VCALENDAR
