BEGIN:VCALENDAR
VERSION:2.0
PRODID:icalendar-ruby
CALSCALE:GREGORIAN
METHOD:PUBLISH
BEGIN:VEVENT
DTSTAMP:20260423T122805Z
UID:7-433137@rmnaz.com
DTSTART:20260927T133000Z
DTEND:20260927T143000Z
CLASS:PUBLIC
CREATED:20260423T082040
DESCRIPTION:Sunday Worship
LAST-MODIFIED:20260423T082040
LOCATION:1530 Hunter Hill Rd. Rocky Mount NC 27804
SUMMARY:Sunday Worship
URL;VALUE=URI:https://www.rmnaz.com/events/sunday-worship/2026-09-27
END:VEVENT
END:VCALENDAR
