BEGIN:VCALENDAR
VERSION:2.0
PRODID:icalendar-ruby
CALSCALE:GREGORIAN
METHOD:PUBLISH
BEGIN:VEVENT
DTSTAMP:20260423T111748Z
UID:7-432793@rmnaz.com
DTSTART:20260920T133000Z
DTEND:20260920T143000Z
CLASS:PUBLIC
CREATED:20260422T225024
DESCRIPTION:Sunday Worship
LAST-MODIFIED:20260422T225024
LOCATION:1530 Hunter Hill Rd. Rocky Mount NC 27804
SUMMARY:Sunday Worship
URL;VALUE=URI:https://www.rmnaz.com/events/sunday-worship/2026-09-20
END:VEVENT
END:VCALENDAR
