BEGIN:VCALENDAR
VERSION:2.0
PRODID:icalendar-ruby
CALSCALE:GREGORIAN
METHOD:PUBLISH
BEGIN:VEVENT
DTSTAMP:20260422T103719Z
UID:9-430855@rmnaz.com
DTSTART:20260920T150000Z
DTEND:20260920T160000Z
CLASS:PUBLIC
CREATED:20260421T211324
DESCRIPTION:Join us each Sunday for Discipleship classes for all ages follo
 wing our worship service. \nWe have classes from Children\, Youth\, and A
 dults\nAdult Class \n      - The Conversation -  Video Based Discussi
 on\n      - Explores of the Word  -  Bible Study Center Class\nYoung 
 Adult Class\n      - The Gathering -  Discussion Based Class  (Offsit
 e at Renew Nutruition) \nAge Based Classes\n      - Youth Class\n   
   -  Children Class (1st - 5th Grade)\n     -  Preschool (4 Year Old
  - Kindergarden)\n     -  Nursery 
LAST-MODIFIED:20260421T211324
LOCATION:1530 Hunter Hill Rd. Rocky Mount NC 27804
SUMMARY:Discipleship Classes
URL;VALUE=URI:https://www.rmnaz.com/events/discipleship-classes/2026-09-20
END:VEVENT
END:VCALENDAR
